BEGIN:VCALENDAR
VERSION:2.0
PRODID:-//Spéléo SecourS Isère - ECPv6.15.20//NONSGML v1.0//EN
CALSCALE:GREGORIAN
METHOD:PUBLISH
X-WR-CALNAME:Spéléo SecourS Isère
X-ORIGINAL-URL:https://www.sssi.fr
X-WR-CALDESC:Évènements pour Spéléo SecourS Isère
REFRESH-INTERVAL;VALUE=DURATION:PT1H
X-Robots-Tag:noindex
X-PUBLISHED-TTL:PT1H
BEGIN:VTIMEZONE
TZID:Europe/Paris
BEGIN:DAYLIGHT
TZOFFSETFROM:+0100
TZOFFSETTO:+0200
TZNAME:CEST
DTSTART:20240331T010000
END:DAYLIGHT
BEGIN:STANDARD
TZOFFSETFROM:+0200
TZOFFSETTO:+0100
TZNAME:CET
DTSTART:20241027T010000
END:STANDARD
BEGIN:DAYLIGHT
TZOFFSETFROM:+0100
TZOFFSETTO:+0200
TZNAME:CEST
DTSTART:20250330T010000
END:DAYLIGHT
BEGIN:STANDARD
TZOFFSETFROM:+0200
TZOFFSETTO:+0100
TZNAME:CET
DTSTART:20251026T010000
END:STANDARD
BEGIN:DAYLIGHT
TZOFFSETFROM:+0100
TZOFFSETTO:+0200
TZNAME:CEST
DTSTART:20260329T010000
END:DAYLIGHT
BEGIN:STANDARD
TZOFFSETFROM:+0200
TZOFFSETTO:+0100
TZNAME:CET
DTSTART:20261025T010000
END:STANDARD
END:VTIMEZONE
BEGIN:VEVENT
DTSTART;TZID=Europe/Paris:20250705T080000
DTEND;TZID=Europe/Paris:20250706T110000
DTSTAMP:20260424T003314
CREATED:20250122T113218Z
LAST-MODIFIED:20260317T200647Z
UID:2488-1751702400-1751799600@www.sssi.fr
SUMMARY:Exercice départemental 2025
DESCRIPTION:La 3SI organise un exercice départemental le samedi 5 juillet prochain dans le réseau de la Dent de Crolle.\nCet exercice est organisé par Aurélie et Romain dans le but de valider leurs fonctions de Conseillers Techniques. \nLors de cet exercice les aspects médicaux et les transmissions seront notamment mis à l’honneur. Pour le bon déroulement de celui-ci\, environ 70 sauveteurs sont attendus\, toutes spécialités confondues (CE\, équipier\, transmission\, gestion\, médical…). \nDès à présent\, note bien cette date dans ton agenda et inscrit-toi auprès d’eux!
URL:https://www.sssi.fr/event/exercice-departemental-2025/
LOCATION:Dent de Crolles\, Col du Coq\, Saint-Pierre de Chartreuse\, Isère\, 38380\, France
END:VEVENT
END:VCALENDAR