BEGIN:VCALENDAR
VERSION:2.0
PRODID:-//Spéléo SecourS Isère - ECPv6.15.20//NONSGML v1.0//EN
CALSCALE:GREGORIAN
METHOD:PUBLISH
X-ORIGINAL-URL:https://www.sssi.fr
X-WR-CALDESC:Évènements pour Spéléo SecourS Isère
REFRESH-INTERVAL;VALUE=DURATION:PT1H
X-Robots-Tag:noindex
X-PUBLISHED-TTL:PT1H
BEGIN:VTIMEZONE
TZID:Europe/Paris
BEGIN:DAYLIGHT
TZOFFSETFROM:+0100
TZOFFSETTO:+0200
TZNAME:CEST
DTSTART:20240331T010000
END:DAYLIGHT
BEGIN:STANDARD
TZOFFSETFROM:+0200
TZOFFSETTO:+0100
TZNAME:CET
DTSTART:20241027T010000
END:STANDARD
BEGIN:DAYLIGHT
TZOFFSETFROM:+0100
TZOFFSETTO:+0200
TZNAME:CEST
DTSTART:20250330T010000
END:DAYLIGHT
BEGIN:STANDARD
TZOFFSETFROM:+0200
TZOFFSETTO:+0100
TZNAME:CET
DTSTART:20251026T010000
END:STANDARD
BEGIN:DAYLIGHT
TZOFFSETFROM:+0100
TZOFFSETTO:+0200
TZNAME:CEST
DTSTART:20260329T010000
END:DAYLIGHT
BEGIN:STANDARD
TZOFFSETFROM:+0200
TZOFFSETTO:+0100
TZNAME:CET
DTSTART:20261025T010000
END:STANDARD
END:VTIMEZONE
BEGIN:VEVENT
DTSTART;TZID=Europe/Paris:20250405T080000
DTEND;TZID=Europe/Paris:20250405T170000
DTSTAMP:20260424T050543
CREATED:20250122T113005Z
LAST-MODIFIED:20260317T200323Z
UID:2484-1743840000-1743872400@www.sssi.fr
SUMMARY:Formation Transmissions
DESCRIPTION:Plus de détails prochainement
URL:https://www.sssi.fr/event/formation-transmissions/
END:VEVENT
BEGIN:VEVENT
DTSTART;TZID=Europe/Paris:20250408T080000
DTEND;TZID=Europe/Paris:20250408T170000
DTSTAMP:20260424T050543
CREATED:20250224T165148Z
LAST-MODIFIED:20260317T200317Z
UID:2528-1744099200-1744131600@www.sssi.fr
SUMMARY:Médicos 3SI : sortie débutants
DESCRIPTION:Sortie ouverte à tous\, qui se déroulera sur 2 cavités d’initiation qui se trouvent l’une à côté de l’autre : la Fée anglaise et les Joufflus. \nPour s’inscrire\, contactez Aurélie.
URL:https://www.sssi.fr/event/medicos-3si-sortie-debutants/
LOCATION:Vercors\, France
END:VEVENT
BEGIN:VEVENT
DTSTART;TZID=Europe/Paris:20250418T080000
DTEND;TZID=Europe/Paris:20250418T170000
DTSTAMP:20260424T050543
CREATED:20250224T165426Z
LAST-MODIFIED:20260317T200305Z
UID:2530-1744963200-1744995600@www.sssi.fr
SUMMARY:Médicos 3SI : sortie médicalisation/transmission
DESCRIPTION:Sortie médicalisation et transmission d’un bilan médical.\nCette sortie se déroulera aux Cuves de Sassenage (sauf si la météo n’est pas favorable\, auquel cas une autre cavité sera proposée). \nPour s’inscrire\, contactez Aurélie.
URL:https://www.sssi.fr/event/medicos-3si-sortie-medicalisation-transmission/
LOCATION:Cuves de Sassenage\, Place Louis Reverdy\, Sassenage\, 38360\, France
END:VEVENT
BEGIN:VEVENT
DTSTART;TZID=Europe/Paris:20250423T183000
DTEND;TZID=Europe/Paris:20250423T230000
DTSTAMP:20260424T050543
CREATED:20250323T165816Z
LAST-MODIFIED:20260317T200254Z
UID:2546-1745433000-1745449200@www.sssi.fr
SUMMARY:Soirée V Axess Petzl
DESCRIPTION:Nous organisons une nouvelle soirée 3SI à VAxess – Petzl\, Rue Fernand Petzl à Crolles\, mercredi 23 avril à partir de 18h30. Pensez à amener votre picnic\, des trucs à partager\, à boire et votre matériel propre (casque et baudrier complet). \nAu programme : entraînement au spéléo secours : répartiteur\, balancier\, frein de charge\, tyrolienne… \n  \nCette soirée fait suite à celle de janvier et prépare l’exercice secours du 5 juillet prochain. \nInscriptions par mail auprès de Tristan.
URL:https://www.sssi.fr/event/soiree-v-axess-petzl-2/
LOCATION:Petzl\, Rue Fernand Petzl\, Crolles\, 38920\, France
END:VEVENT
END:VCALENDAR