BEGIN:VCALENDAR
VERSION:2.0
PRODID:-//Spéléo SecourS Isère - ECPv6.15.20//NONSGML v1.0//EN
CALSCALE:GREGORIAN
METHOD:PUBLISH
X-WR-CALNAME:Spéléo SecourS Isère
X-ORIGINAL-URL:https://www.sssi.fr
X-WR-CALDESC:Évènements pour Spéléo SecourS Isère
REFRESH-INTERVAL;VALUE=DURATION:PT1H
X-Robots-Tag:noindex
X-PUBLISHED-TTL:PT1H
BEGIN:VTIMEZONE
TZID:Europe/Paris
BEGIN:DAYLIGHT
TZOFFSETFROM:+0100
TZOFFSETTO:+0200
TZNAME:CEST
DTSTART:20240331T010000
END:DAYLIGHT
BEGIN:STANDARD
TZOFFSETFROM:+0200
TZOFFSETTO:+0100
TZNAME:CET
DTSTART:20241027T010000
END:STANDARD
BEGIN:DAYLIGHT
TZOFFSETFROM:+0100
TZOFFSETTO:+0200
TZNAME:CEST
DTSTART:20250330T010000
END:DAYLIGHT
BEGIN:STANDARD
TZOFFSETFROM:+0200
TZOFFSETTO:+0100
TZNAME:CET
DTSTART:20251026T010000
END:STANDARD
BEGIN:DAYLIGHT
TZOFFSETFROM:+0100
TZOFFSETTO:+0200
TZNAME:CEST
DTSTART:20260329T010000
END:DAYLIGHT
BEGIN:STANDARD
TZOFFSETFROM:+0200
TZOFFSETTO:+0100
TZNAME:CET
DTSTART:20261025T010000
END:STANDARD
END:VTIMEZONE
BEGIN:VEVENT
DTSTART;TZID=Europe/Paris:20250120T200000
DTEND;TZID=Europe/Paris:20250120T230000
DTSTAMP:20260424T095656
CREATED:20250117T212948Z
LAST-MODIFIED:20260317T200547Z
UID:2468-1737403200-1737414000@www.sssi.fr
SUMMARY:Assemblée Générale 2025
DESCRIPTION:
URL:https://www.sssi.fr/event/assemblee-generale-2025/
LOCATION:CDOS Eybens\, 7 rue de l'industrie\, Eybens\, France
END:VEVENT
BEGIN:VEVENT
DTSTART;TZID=Europe/Paris:20250129T190000
DTEND;TZID=Europe/Paris:20250129T230000
DTSTAMP:20260424T095656
CREATED:20250115T063737Z
LAST-MODIFIED:20260317T200331Z
UID:2463-1738177200-1738191600@www.sssi.fr
SUMMARY:Soirée V Axess Petzl
DESCRIPTION:Pour bien commencer 2025\, retrouvons nous mercredi 29 janvier à 19h à V AXESS à Crolles. \nVenez avec votre picnic\, boisons\, petites collations à partager\, votre matériel propre et bien entendu votre bonne humeur.
URL:https://www.sssi.fr/event/soiree-v-axess-petzl/
LOCATION:Petzl\, Rue Fernand Petzl\, Crolles\, 38920\, France
END:VEVENT
END:VCALENDAR