BEGIN:VCALENDAR
VERSION:2.0
PRODID:-//Spéléo SecourS Isère - ECPv6.15.20//NONSGML v1.0//EN
CALSCALE:GREGORIAN
METHOD:PUBLISH
X-WR-CALNAME:Spéléo SecourS Isère
X-ORIGINAL-URL:https://www.sssi.fr
X-WR-CALDESC:Évènements pour Spéléo SecourS Isère
REFRESH-INTERVAL;VALUE=DURATION:PT1H
X-Robots-Tag:noindex
X-PUBLISHED-TTL:PT1H
BEGIN:VTIMEZONE
TZID:Europe/Paris
BEGIN:DAYLIGHT
TZOFFSETFROM:+0100
TZOFFSETTO:+0200
TZNAME:CEST
DTSTART:20250330T010000
END:DAYLIGHT
BEGIN:STANDARD
TZOFFSETFROM:+0200
TZOFFSETTO:+0100
TZNAME:CET
DTSTART:20251026T010000
END:STANDARD
BEGIN:DAYLIGHT
TZOFFSETFROM:+0100
TZOFFSETTO:+0200
TZNAME:CEST
DTSTART:20260329T010000
END:DAYLIGHT
BEGIN:STANDARD
TZOFFSETFROM:+0200
TZOFFSETTO:+0100
TZNAME:CET
DTSTART:20261025T010000
END:STANDARD
BEGIN:DAYLIGHT
TZOFFSETFROM:+0100
TZOFFSETTO:+0200
TZNAME:CEST
DTSTART:20270328T010000
END:DAYLIGHT
BEGIN:STANDARD
TZOFFSETFROM:+0200
TZOFFSETTO:+0100
TZNAME:CET
DTSTART:20271031T010000
END:STANDARD
END:VTIMEZONE
BEGIN:VEVENT
DTSTART;TZID=Europe/Paris:20261016T080000
DTEND;TZID=Europe/Paris:20261016T170000
DTSTAMP:20260420T025457
CREATED:20260223T210006Z
LAST-MODIFIED:20260317T200710Z
UID:2602-1792137600-1792170000@www.sssi.fr
SUMMARY:Exercice préfectoral 2026
DESCRIPTION:
URL:https://www.sssi.fr/event/exercice-prefectoral-2026/
END:VEVENT
END:VCALENDAR