BEGIN:VCALENDAR
VERSION:2.0
PRODID:-//Spéléo SecourS Isère - ECPv6.15.20//NONSGML v1.0//EN
CALSCALE:GREGORIAN
METHOD:PUBLISH
X-ORIGINAL-URL:https://www.sssi.fr
X-WR-CALDESC:Évènements pour Spéléo SecourS Isère
REFRESH-INTERVAL;VALUE=DURATION:PT1H
X-Robots-Tag:noindex
X-PUBLISHED-TTL:PT1H
BEGIN:VTIMEZONE
TZID:Europe/Paris
BEGIN:DAYLIGHT
TZOFFSETFROM:+0100
TZOFFSETTO:+0200
TZNAME:CEST
DTSTART:20250330T010000
END:DAYLIGHT
BEGIN:STANDARD
TZOFFSETFROM:+0200
TZOFFSETTO:+0100
TZNAME:CET
DTSTART:20251026T010000
END:STANDARD
BEGIN:DAYLIGHT
TZOFFSETFROM:+0100
TZOFFSETTO:+0200
TZNAME:CEST
DTSTART:20260329T010000
END:DAYLIGHT
BEGIN:STANDARD
TZOFFSETFROM:+0200
TZOFFSETTO:+0100
TZNAME:CET
DTSTART:20261025T010000
END:STANDARD
BEGIN:DAYLIGHT
TZOFFSETFROM:+0100
TZOFFSETTO:+0200
TZNAME:CEST
DTSTART:20270328T010000
END:DAYLIGHT
BEGIN:STANDARD
TZOFFSETFROM:+0200
TZOFFSETTO:+0100
TZNAME:CET
DTSTART:20271031T010000
END:STANDARD
END:VTIMEZONE
BEGIN:VEVENT
DTSTART;TZID=Europe/Paris:20260318T184500
DTEND;TZID=Europe/Paris:20260318T230000
DTSTAMP:20260420T160425
CREATED:20260223T210114Z
LAST-MODIFIED:20260317T212849Z
UID:2604-1773859500-1773874800@www.sssi.fr
SUMMARY:Soirée Vaxess Petzl
DESCRIPTION:
URL:https://www.sssi.fr/event/soiree-vaxess-petzl/
LOCATION:Petzl\, Rue Fernand Petzl\, Crolles\, 38920\, France
END:VEVENT
END:VCALENDAR