BEGIN:VCALENDAR
VERSION:2.0
PRODID:-//Spéléo SecourS Isère - ECPv6.15.20//NONSGML v1.0//EN
CALSCALE:GREGORIAN
METHOD:PUBLISH
X-WR-CALNAME:Spéléo SecourS Isère
X-ORIGINAL-URL:https://www.sssi.fr
X-WR-CALDESC:Évènements pour Spéléo SecourS Isère
REFRESH-INTERVAL;VALUE=DURATION:PT1H
X-Robots-Tag:noindex
X-PUBLISHED-TTL:PT1H
BEGIN:VTIMEZONE
TZID:Europe/Paris
BEGIN:DAYLIGHT
TZOFFSETFROM:+0100
TZOFFSETTO:+0200
TZNAME:CEST
DTSTART:20240331T010000
END:DAYLIGHT
BEGIN:STANDARD
TZOFFSETFROM:+0200
TZOFFSETTO:+0100
TZNAME:CET
DTSTART:20241027T010000
END:STANDARD
BEGIN:DAYLIGHT
TZOFFSETFROM:+0100
TZOFFSETTO:+0200
TZNAME:CEST
DTSTART:20250330T010000
END:DAYLIGHT
BEGIN:STANDARD
TZOFFSETFROM:+0200
TZOFFSETTO:+0100
TZNAME:CET
DTSTART:20251026T010000
END:STANDARD
BEGIN:DAYLIGHT
TZOFFSETFROM:+0100
TZOFFSETTO:+0200
TZNAME:CEST
DTSTART:20260329T010000
END:DAYLIGHT
BEGIN:STANDARD
TZOFFSETFROM:+0200
TZOFFSETTO:+0100
TZNAME:CET
DTSTART:20261025T010000
END:STANDARD
END:VTIMEZONE
BEGIN:VEVENT
DTSTART;TZID=Europe/Paris:20250505T080000
DTEND;TZID=Europe/Paris:20250505T170000
DTSTAMP:20260424T063920
CREATED:20250224T165626Z
LAST-MODIFIED:20260317T200311Z
UID:2533-1746432000-1746464400@www.sssi.fr
SUMMARY:Sortie Meds 3SI
DESCRIPTION:La cavité sera choisie en fonction du nombre de participants\, du niveau de chacun et de la météo. \nPour s’inscrire\, contactez Aurélie.
URL:https://www.sssi.fr/event/sortie-meds-3si/
LOCATION:Vercors\, France
END:VEVENT
END:VCALENDAR